BEGIN:VCALENDAR
VERSION:2.0
PRODID:-//Sophicity/Tribune/Austell, GA
BEGIN:VEVENT
DTSTAMP:20260425T200646Z
UID:a1733420-de66-4c35-a6bc-729777b7b117-5965
DTSTART:20240605T190000Z
DTEND:20240605T200000Z
CLASS:PUBLIC
SUMMARY:Arraignment 3PM
END:VEVENT
END:VCALENDAR
