BEGIN:VCALENDAR
VERSION:2.0
PRODID:-//Sophicity/Tribune/Austell, GA
BEGIN:VEVENT
DTSTAMP:20260425T183006Z
UID:a1733420-de66-4c35-a6bc-729777b7b117-5955
DTSTART:20240506T230000Z
DTEND:20240507T000000Z
CLASS:PUBLIC
SUMMARY:Council Meeting 7PM
END:VEVENT
END:VCALENDAR
