BEGIN:VCALENDAR
VERSION:2.0
PRODID:-//Sophicity/Tribune/Austell, GA
BEGIN:VEVENT
DTSTAMP:20260425T183348Z
UID:a1733420-de66-4c35-a6bc-729777b7b117-5954
DTSTART:20240429T220000Z
DTEND:20240429T230000Z
CLASS:PUBLIC
SUMMARY:Pre-Agenda Meeting 6PM
END:VEVENT
END:VCALENDAR
