BEGIN:VCALENDAR
VERSION:2.0
PRODID:-//Sophicity/Tribune/Austell, GA
BEGIN:VEVENT
DTSTAMP:20260425T182939Z
UID:a1733420-de66-4c35-a6bc-729777b7b117-5948
DTSTART:20240403T190000Z
DTEND:20240403T200000Z
CLASS:PUBLIC
SUMMARY:Arraignment 3PM
END:VEVENT
END:VCALENDAR
