BEGIN:VCALENDAR
VERSION:2.0
PRODID:-//Sophicity/Tribune/Austell, GA
BEGIN:VEVENT
DTSTAMP:20260425T200737Z
UID:a1733420-de66-4c35-a6bc-729777b7b117-5946
DTSTART:20240329T120000Z
DTEND:20240329T210000Z
CLASS:PUBLIC
SUMMARY:Office Closed - Good Friday
END:VEVENT
END:VCALENDAR
