BEGIN:VCALENDAR
VERSION:2.0
PRODID:-//Sophicity/Tribune/Austell, GA
BEGIN:VEVENT
DTSTAMP:20260425T200652Z
UID:a1733420-de66-4c35-a6bc-729777b7b117-5940
DTSTART:20240312T220000Z
DTEND:20240312T230000Z
CLASS:PUBLIC
SUMMARY:Planning and Zoning Meeting 6PM
END:VEVENT
END:VCALENDAR
