BEGIN:VCALENDAR
VERSION:2.0
PRODID:-//Sophicity/Tribune/Austell, GA
BEGIN:VEVENT
DTSTAMP:20260425T200809Z
UID:a1733420-de66-4c35-a6bc-729777b7b117-5938
DTSTART:20240305T000000Z
DTEND:20240305T010000Z
CLASS:PUBLIC
SUMMARY:Council Meeting 7PM
END:VEVENT
END:VCALENDAR
