BEGIN:VCALENDAR
VERSION:2.0
PRODID:-//Sophicity/Tribune/Austell, GA
BEGIN:VEVENT
DTSTAMP:20260425T213753Z
UID:a1733420-de66-4c35-a6bc-729777b7b117-5934
DTSTART:20240219T220000Z
DTEND:20240219T220000Z
CLASS:PUBLIC
SUMMARY:Council Material Due by 5PM
END:VEVENT
END:VCALENDAR
