BEGIN:VCALENDAR
VERSION:2.0
PRODID:-//Sophicity/Tribune/Austell, GA
BEGIN:VEVENT
DTSTAMP:20260425T213754Z
UID:a1733420-de66-4c35-a6bc-729777b7b117-5933
DTSTART:20240214T200000Z
DTEND:20240214T210000Z
CLASS:PUBLIC
SUMMARY:Arraignment 3PM
END:VEVENT
END:VCALENDAR
