BEGIN:VCALENDAR
VERSION:2.0
PRODID:-//Sophicity/Tribune/Austell, GA
BEGIN:VEVENT
DTSTAMP:20260425T213754Z
UID:a1733420-de66-4c35-a6bc-729777b7b117-5932
DTSTART:20240213T230000Z
DTEND:20240214T000000Z
CLASS:PUBLIC
SUMMARY:Planning and Zoning Meeting 6PM
END:VEVENT
END:VCALENDAR
