BEGIN:VCALENDAR
VERSION:2.0
PRODID:-//Sophicity/Tribune/Austell, GA
BEGIN:VEVENT
DTSTAMP:20260425T231907Z
UID:a1733420-de66-4c35-a6bc-729777b7b117-5930
DTSTART:20240131T200000Z
DTEND:20240131T210000Z
CLASS:PUBLIC
SUMMARY:Bench Trial 3PM
END:VEVENT
END:VCALENDAR
