BEGIN:VCALENDAR
VERSION:2.0
PRODID:-//Sophicity/Tribune/Austell, GA
BEGIN:VEVENT
DTSTAMP:20260425T213810Z
UID:a1733420-de66-4c35-a6bc-729777b7b117-5929
DTSTART:20240129T230000Z
DTEND:20240130T000000Z
CLASS:PUBLIC
SUMMARY:Pre-Agenda Meeting 6PM
END:VEVENT
END:VCALENDAR
