BEGIN:VCALENDAR
VERSION:2.0
PRODID:-//Sophicity/Tribune/Austell, GA
BEGIN:VEVENT
DTSTAMP:20260425T232025Z
UID:a1733420-de66-4c35-a6bc-729777b7b117-5921
DTSTART:20240101T130000Z
DTEND:20240101T220000Z
CLASS:PUBLIC
SUMMARY:Office Closed - New Year's Day
END:VEVENT
END:VCALENDAR
