BEGIN:VCALENDAR
VERSION:2.0
PRODID:-//Sophicity/Tribune/Austell, GA
BEGIN:VEVENT
DTSTAMP:20260425T230840Z
UID:a1733420-de66-4c35-a6bc-729777b7b117-5902
DTSTART:20230704T110000Z
DTEND:20230704T210000Z
CLASS:PUBLIC
SUMMARY:Closed for Independence Day
END:VEVENT
END:VCALENDAR
