BEGIN:VCALENDAR
VERSION:2.0
PRODID:-//Sophicity/Tribune/Austell, GA
BEGIN:VEVENT
DTSTAMP:20260426T005329Z
UID:a1733420-de66-4c35-a6bc-729777b7b117-5889
DTSTART:20231226T130000Z
DTEND:20231226T220000Z
CLASS:PUBLIC
SUMMARY:Office Closed Christmas Holiday
END:VEVENT
END:VCALENDAR
