BEGIN:VCALENDAR
VERSION:2.0
PRODID:-//Sophicity/Tribune/Austell, GA
BEGIN:VEVENT
DTSTAMP:20260426T005516Z
UID:a1733420-de66-4c35-a6bc-729777b7b117-5888
DTSTART:20231225T130000Z
DTEND:20231225T220000Z
CLASS:PUBLIC
SUMMARY:Office Closed Christmas Day
END:VEVENT
END:VCALENDAR
