BEGIN:VCALENDAR
VERSION:2.0
PRODID:-//Sophicity/Tribune/Austell, GA
BEGIN:VEVENT
DTSTAMP:20260426T005328Z
UID:a1733420-de66-4c35-a6bc-729777b7b117-5887
DTSTART:20231222T170000Z
DTEND:20231222T220000Z
CLASS:PUBLIC
SUMMARY:Office Closed at 12PM for Annual Holiday Party
END:VEVENT
END:VCALENDAR
