BEGIN:VCALENDAR
VERSION:2.0
PRODID:-//Sophicity/Tribune/Austell, GA
BEGIN:VEVENT
DTSTAMP:20260426T022852Z
UID:a1733420-de66-4c35-a6bc-729777b7b117-5881
DTSTART:20231123T130000Z
DTEND:20231124T220000Z
CLASS:PUBLIC
SUMMARY:Office Closed Thanksgiving 
END:VEVENT
END:VCALENDAR
