BEGIN:VCALENDAR
VERSION:2.0
PRODID:-//Sophicity/Tribune/Austell, GA
BEGIN:VEVENT
DTSTAMP:20260426T022032Z
UID:a1733420-de66-4c35-a6bc-729777b7b117-5879
DTSTART:20231108T200000Z
DTEND:20231108T200000Z
CLASS:PUBLIC
SUMMARY:Arraignment 3PM
END:VEVENT
END:VCALENDAR
