BEGIN:VCALENDAR
VERSION:2.0
PRODID:-//Sophicity/Tribune/Austell, GA
BEGIN:VEVENT
DTSTAMP:20260426T035425Z
UID:a1733420-de66-4c35-a6bc-729777b7b117-5876
DTSTART:20231023T210000Z
DTEND:20231023T210000Z
CLASS:PUBLIC
SUMMARY:Council Material Due By 5PM
END:VEVENT
END:VCALENDAR
