BEGIN:VCALENDAR
VERSION:2.0
PRODID:-//Sophicity/Tribune/Austell, GA
BEGIN:VEVENT
DTSTAMP:20260426T035548Z
UID:a1733420-de66-4c35-a6bc-729777b7b117-5866
DTSTART:20230920T190000Z
DTEND:20230920T190000Z
CLASS:PUBLIC
SUMMARY:Arraignment 3PM
END:VEVENT
END:VCALENDAR
