BEGIN:VCALENDAR
VERSION:2.0
PRODID:-//Sophicity/Tribune/Austell, GA
BEGIN:VEVENT
DTSTAMP:20260426T022913Z
UID:a1733420-de66-4c35-a6bc-729777b7b117-5862
DTSTART:20230904T120000Z
DTEND:20230904T210000Z
CLASS:PUBLIC
SUMMARY:Office Closed Labor Day
END:VEVENT
END:VCALENDAR
