BEGIN:VCALENDAR
VERSION:2.0
PRODID:-//Sophicity/Tribune/Austell, GA
BEGIN:VEVENT
DTSTAMP:20260426T005441Z
UID:a1733420-de66-4c35-a6bc-729777b7b117-5855
DTSTART:20230724T210000Z
DTEND:20230724T210000Z
CLASS:PUBLIC
SUMMARY:Council Material Due By 5PM
END:VEVENT
END:VCALENDAR
