BEGIN:VCALENDAR
VERSION:2.0
PRODID:-//Sophicity/Tribune/Austell, GA
BEGIN:VEVENT
DTSTAMP:20260426T005455Z
UID:a1733420-de66-4c35-a6bc-729777b7b117-5854
DTSTART:20230712T190000Z
DTEND:20230712T190000Z
CLASS:PUBLIC
SUMMARY:Arraignment 3PM
END:VEVENT
END:VCALENDAR
