BEGIN:VCALENDAR
VERSION:2.0
PRODID:-//Sophicity/Tribune/Austell, GA
BEGIN:VEVENT
DTSTAMP:20260425T195727Z
UID:a1733420-de66-4c35-a6bc-729777b7b117-5838
DTSTART:20230407T120000Z
DTEND:20230407T210000Z
CLASS:PUBLIC
SUMMARY:Office Closed Good Friday
END:VEVENT
END:VCALENDAR
