BEGIN:VCALENDAR
VERSION:2.0
PRODID:-//Sophicity/Tribune/Austell, GA
BEGIN:VEVENT
DTSTAMP:20260425T231256Z
UID:a1733420-de66-4c35-a6bc-729777b7b117-5832
DTSTART:20230222T200000Z
DTEND:20230222T200000Z
CLASS:PUBLIC
SUMMARY:Bench Trial 3PM
END:VEVENT
END:VCALENDAR
