BEGIN:VCALENDAR
VERSION:2.0
PRODID:-//Sophicity/Tribune/Austell, GA
BEGIN:VEVENT
DTSTAMP:20260426T022409Z
UID:a1733420-de66-4c35-a6bc-729777b7b117-5812
DTSTART:20231114T230000Z
DTEND:20231114T230000Z
CLASS:PUBLIC
SUMMARY:P&Z Meeting 6PM
END:VEVENT
END:VCALENDAR
