BEGIN:VCALENDAR
VERSION:2.0
PRODID:-//Sophicity/Tribune/Austell, GA
BEGIN:VEVENT
DTSTAMP:20260426T035556Z
UID:a1733420-de66-4c35-a6bc-729777b7b117-5811
DTSTART:20231010T220000Z
DTEND:20231010T220000Z
CLASS:PUBLIC
SUMMARY:P&Z Meeting 6PM
END:VEVENT
END:VCALENDAR
