BEGIN:VCALENDAR
VERSION:2.0
PRODID:-//Sophicity/Tribune/Austell, GA
BEGIN:VEVENT
DTSTAMP:20260426T035548Z
UID:a1733420-de66-4c35-a6bc-729777b7b117-5810
DTSTART:20230912T220000Z
DTEND:20230912T220000Z
CLASS:PUBLIC
SUMMARY:P&Z Meeting 6PM
END:VEVENT
END:VCALENDAR
