BEGIN:VCALENDAR
VERSION:2.0
PRODID:-//Sophicity/Tribune/Austell, GA
BEGIN:VEVENT
DTSTAMP:20260425T213810Z
UID:a1733420-de66-4c35-a6bc-729777b7b117-5800
DTSTART:20230315T183000Z
DTEND:20230315T193000Z
CLASS:PUBLIC
SUMMARY:Committee Meetings (As Necessary) 
END:VEVENT
END:VCALENDAR
