BEGIN:VCALENDAR
VERSION:2.0
PRODID:-//Sophicity/Tribune/Austell, GA
BEGIN:VEVENT
DTSTAMP:20260426T005440Z
UID:a1733420-de66-4c35-a6bc-729777b7b117-5796
DTSTART:20230118T193000Z
DTEND:20230118T203000Z
CLASS:PUBLIC
SUMMARY:Committee Meetings (As Necessary) 
END:VEVENT
END:VCALENDAR
