BEGIN:VCALENDAR
VERSION:2.0
PRODID:-//Sophicity/Tribune/Austell, GA
BEGIN:VEVENT
DTSTAMP:20260426T005405Z
UID:a1733420-de66-4c35-a6bc-729777b7b117-5795
DTSTART:20230116T130000Z
DTEND:20230116T220000Z
CLASS:PUBLIC
SUMMARY:Office Closed Martin Luther King, Jr. Birthday
END:VEVENT
END:VCALENDAR
