BEGIN:VCALENDAR
VERSION:2.0
PRODID:-//Sophicity/Tribune/Austell, GA
BEGIN:VEVENT
DTSTAMP:20260426T005455Z
UID:a1733420-de66-4c35-a6bc-729777b7b117-5647
DTSTART:20231127T230000Z
DTEND:20231127T230000Z
CLASS:PUBLIC
SUMMARY:Pre-Agenda Meeting
END:VEVENT
END:VCALENDAR
