BEGIN:VCALENDAR
VERSION:2.0
PRODID:-//Sophicity/Tribune/Austell, GA
BEGIN:VEVENT
DTSTAMP:20260426T021915Z
UID:a1733420-de66-4c35-a6bc-729777b7b117-5644
DTSTART:20230828T220000Z
DTEND:20230828T220000Z
CLASS:PUBLIC
SUMMARY:Pre-Agenda Meeting
END:VEVENT
END:VCALENDAR
