BEGIN:VCALENDAR
VERSION:2.0
PRODID:-//Sophicity/Tribune/Austell, GA
BEGIN:VEVENT
DTSTAMP:20260425T213746Z
UID:a1733420-de66-4c35-a6bc-729777b7b117-5638
DTSTART:20230227T230000Z
DTEND:20230227T230000Z
CLASS:PUBLIC
SUMMARY:Pre-Agenda Meeting
END:VEVENT
END:VCALENDAR
