BEGIN:VCALENDAR
VERSION:2.0
PRODID:-//Sophicity/Tribune/Austell, GA
BEGIN:VEVENT
DTSTAMP:20260426T022038Z
UID:a1733420-de66-4c35-a6bc-729777b7b117-5548
DTSTART:20221206T000000Z
DTEND:20221206T010000Z
CLASS:PUBLIC
SUMMARY:Council Meeting
END:VEVENT
END:VCALENDAR
