BEGIN:VCALENDAR
VERSION:2.0
PRODID:-//Sophicity/Tribune/Austell, GA
BEGIN:VEVENT
DTSTAMP:20260426T035425Z
UID:a1733420-de66-4c35-a6bc-729777b7b117-5547
DTSTART:20221108T000000Z
DTEND:20221108T010000Z
CLASS:PUBLIC
SUMMARY:Council Meeting
END:VEVENT
END:VCALENDAR
