BEGIN:VCALENDAR
VERSION:2.0
PRODID:-//Sophicity/Tribune/Austell, GA
BEGIN:VEVENT
DTSTAMP:20260425T211739Z
UID:a1733420-de66-4c35-a6bc-729777b7b117-5541
DTSTART:20220502T230000Z
DTEND:20220503T000000Z
CLASS:PUBLIC
SUMMARY:Council Meeting
END:VEVENT
END:VCALENDAR
