BEGIN:VCALENDAR
VERSION:2.0
PRODID:-//Sophicity/Tribune/Austell, GA
BEGIN:VEVENT
DTSTAMP:20260425T230845Z
UID:a1733420-de66-4c35-a6bc-729777b7b117-5487
DTSTART:20220523T220000Z
DTEND:20220523T220000Z
CLASS:PUBLIC
SUMMARY:Pre-Agenda Meeting
END:VEVENT
END:VCALENDAR
