BEGIN:VCALENDAR
VERSION:2.0
PRODID:-//Sophicity/Tribune/Austell, GA
BEGIN:VEVENT
DTSTAMP:20260425T230840Z
UID:a1733420-de66-4c35-a6bc-729777b7b117-5484
DTSTART:20220228T230000Z
DTEND:20220228T230000Z
CLASS:PUBLIC
SUMMARY:Pre-Agenda Meeting
END:VEVENT
END:VCALENDAR
