BEGIN:VCALENDAR
VERSION:2.0
PRODID:-//Sophicity/Tribune/Austell, GA
BEGIN:VEVENT
DTSTAMP:20260426T035549Z
UID:a1733420-de66-4c35-a6bc-729777b7b117-5480
DTSTART:20221125T234300Z
DTEND:20221125T234300Z
CLASS:PUBLIC
SUMMARY:Holiday City Closed
END:VEVENT
END:VCALENDAR
