BEGIN:VCALENDAR
VERSION:2.0
PRODID:-//Sophicity/Tribune/Austell, GA
BEGIN:VEVENT
DTSTAMP:20260425T211726Z
UID:a1733420-de66-4c35-a6bc-729777b7b117-5477
DTSTART:20220420T190000Z
DTEND:20220420T190000Z
CLASS:PUBLIC
SUMMARY:Court Trial 3PM
END:VEVENT
END:VCALENDAR
