BEGIN:VCALENDAR
VERSION:2.0
PRODID:-//Sophicity/Tribune/Austell, GA
BEGIN:VEVENT
DTSTAMP:20260426T021952Z
UID:a1733420-de66-4c35-a6bc-729777b7b117-5448
DTSTART:20221222T170000Z
DTEND:20221222T220000Z
CLASS:PUBLIC
SUMMARY:Holiday/City Closes at 12pm for Christmas Party 
END:VEVENT
END:VCALENDAR
