BEGIN:VCALENDAR
VERSION:2.0
PRODID:-//Sophicity/Tribune/Austell, GA
BEGIN:VEVENT
DTSTAMP:20260426T035549Z
UID:a1733420-de66-4c35-a6bc-729777b7b117-5442
DTSTART:20221124T130000Z
DTEND:20221124T220000Z
CLASS:PUBLIC
SUMMARY:Holiday city Closed - Thanksgiving 
END:VEVENT
END:VCALENDAR
