BEGIN:VCALENDAR
VERSION:2.0
PRODID:-//Sophicity/Tribune/Austell, GA
BEGIN:VEVENT
DTSTAMP:20260426T035557Z
UID:a1733420-de66-4c35-a6bc-729777b7b117-5438
DTSTART:20221116T200000Z
DTEND:20221116T200000Z
CLASS:PUBLIC
SUMMARY:Court Trial 3PM
END:VEVENT
END:VCALENDAR
