BEGIN:VCALENDAR
VERSION:2.0
PRODID:-//Sophicity/Tribune/Austell, GA
BEGIN:VEVENT
DTSTAMP:20260426T035557Z
UID:a1733420-de66-4c35-a6bc-729777b7b117-5418
DTSTART:20220905T120000Z
DTEND:20220905T210000Z
CLASS:PUBLIC
SUMMARY:Holiday City Closed - Labor Day - Council Meeting Canceled 
END:VEVENT
END:VCALENDAR
