BEGIN:VCALENDAR
VERSION:2.0
PRODID:-//Sophicity/Tribune/Austell, GA
BEGIN:VEVENT
DTSTAMP:20260426T022913Z
UID:a1733420-de66-4c35-a6bc-729777b7b117-5411
DTSTART:20220728T230000Z
DTEND:20220728T230000Z
CLASS:PUBLIC
SUMMARY:Gas Board Meeting 7PM
END:VEVENT
END:VCALENDAR
