BEGIN:VCALENDAR
VERSION:2.0
PRODID:-//Sophicity/Tribune/Austell, GA
BEGIN:VEVENT
DTSTAMP:20260426T022241Z
UID:a1733420-de66-4c35-a6bc-729777b7b117-5408
DTSTART:20220713T183000Z
DTEND:20220713T183000Z
CLASS:PUBLIC
SUMMARY:Committee Meeting 2:30PM
END:VEVENT
END:VCALENDAR
