BEGIN:VCALENDAR
VERSION:2.0
PRODID:-//Sophicity/Tribune/Austell, GA
BEGIN:VEVENT
DTSTAMP:20260426T005406Z
UID:a1733420-de66-4c35-a6bc-729777b7b117-5401
DTSTART:20220620T120000Z
DTEND:20220620T210000Z
CLASS:PUBLIC
SUMMARY:Holiday city Closed - Juneteenth
END:VEVENT
END:VCALENDAR
