BEGIN:VCALENDAR
VERSION:2.0
PRODID:-//Sophicity/Tribune/Austell, GA
BEGIN:VEVENT
DTSTAMP:20260425T211810Z
UID:a1733420-de66-4c35-a6bc-729777b7b117-5388
DTSTART:20220415T120000Z
DTEND:20220415T210000Z
CLASS:PUBLIC
SUMMARY:Holiday city Closed - Good Friday
END:VEVENT
END:VCALENDAR
